BEGIN:VCALENDAR
VERSION:2.0
PRODID:-//ChamberMaster//Event Calendar 2.0//EN
METHOD:PUBLISH
X-PUBLISHED-TTL:P3D
REFRESH-INTERVAL:P3D
CALSCALE:GREGORIAN
BEGIN:VEVENT
DTSTART:20210505T170000Z
DTEND:20210505T173000Z
X-MICROSOFT-CDO-ALLDAYEVENT:FALSE
SUMMARY:Welcome Wagon - The Ritz
DESCRIPTION:Welcome Wagon
X-ALT-DESC;FMTTYPE=text/html:Welcome Wagon&nbsp\;
LOCATION:The Ritz 108 N.Commerce Street Gainesville
UID:e.1216.10302
SEQUENCE:3
DTSTAMP:20260426T004017Z
URL:https://business.gainesvillecofc.com/events/details/welcome-wagon-the-ritz-10302
END:VEVENT

END:VCALENDAR
