BEGIN:VCALENDAR
VERSION:2.0
PRODID:-//ChamberMaster//Event Calendar 2.0//EN
METHOD:PUBLISH
X-PUBLISHED-TTL:P3D
REFRESH-INTERVAL:P3D
CALSCALE:GREGORIAN
BEGIN:VEVENT
DTSTART:20210714T164500Z
DTEND:20210714T170000Z
X-MICROSOFT-CDO-ALLDAYEVENT:FALSE
SUMMARY:Welcome Wagon/ The Cornerstone Cafe
DESCRIPTION:Welcome Wagon/ The Cornerstone Cafe
X-ALT-DESC;FMTTYPE=text/html:Welcome Wagon/ The Cornerstone Cafe
LOCATION:202 W. Main Gainesville\, TX. 76240
UID:e.1216.10323
SEQUENCE:3
DTSTAMP:20260425T220055Z
URL:https://business.gainesvillecofc.com/events/details/welcome-wagon-the-cornerstone-cafe-10323
END:VEVENT

END:VCALENDAR
