BEGIN:VCALENDAR
VERSION:2.0
PRODID:-//ChamberMaster//Event Calendar 2.0//EN
METHOD:PUBLISH
X-PUBLISHED-TTL:P3D
REFRESH-INTERVAL:P3D
CALSCALE:GREGORIAN
BEGIN:VEVENT
DTSTART:20210505T163000Z
DTEND:20210505T170000Z
X-MICROSOFT-CDO-ALLDAYEVENT:FALSE
SUMMARY:Welcome Wagon - SNI Pharmacy
DESCRIPTION:Welcome Wagon -
X-ALT-DESC;FMTTYPE=text/html:Welcome Wagon -&nbsp\;
LOCATION:SNI Pharmacy 842 E. California Street Gainesville
UID:e.1216.10301
SEQUENCE:3
DTSTAMP:20260426T004835Z
URL:https://business.gainesvillecofc.com/events/details/welcome-wagon-sni-pharmacy-10301
END:VEVENT

END:VCALENDAR
