BEGIN:VCALENDAR
VERSION:2.0
PRODID:-//ChamberMaster//Event Calendar 2.0//EN
METHOD:PUBLISH
X-PUBLISHED-TTL:P3D
REFRESH-INTERVAL:P3D
CALSCALE:GREGORIAN
BEGIN:VEVENT
DTSTART:20210811T163000Z
DTEND:20210811T164500Z
X-MICROSOFT-CDO-ALLDAYEVENT:FALSE
SUMMARY:Welcome Wagon - Grind Hard Barber Studio
DESCRIPTION:Welcome Wagon/Grind Hard Barber Studio
X-ALT-DESC;FMTTYPE=text/html:Welcome Wagon/Grind Hard Barber Studio
LOCATION:701 E. California St.\, Ste. 203 Gainesville\, TX.76240
UID:e.1216.10312
SEQUENCE:3
DTSTAMP:20260425T203628Z
URL:https://business.gainesvillecofc.com/events/details/welcome-wagon-grind-hard-barber-studio-10312
END:VEVENT

END:VCALENDAR
