BEGIN:VCALENDAR
VERSION:2.0
PRODID:-//ChamberMaster//Event Calendar 2.0//EN
METHOD:PUBLISH
X-PUBLISHED-TTL:P3D
REFRESH-INTERVAL:P3D
CALSCALE:GREGORIAN
BEGIN:VEVENT
DTSTART:20230407T213000Z
DTEND:20230407T220000Z
X-MICROSOFT-CDO-ALLDAYEVENT:FALSE
SUMMARY:Tile Liquidators Grand Opening & Ribbon Cutting
DESCRIPTION:Ribbon Cutting for Tile Liquidators!\n\nThey will be offering discounts to those in attendance\, as well as offering refreshments and cocktails. They will also be doing a raffle for a chance to win 1\,000 sqft in porcelain wood-like tile!
X-ALT-DESC;FMTTYPE=text/html:Ribbon Cutting for&nbsp\;Tile Liquidators!<br />\nThey will be offering discounts to those in attendance\, as well as offering refreshments and cocktails. They will also be doing a raffle for a chance to win 1\,000 sqft in porcelain wood-like tile!
LOCATION:201 I-35 Ste 180 Gainesville\, TX.
UID:e.1216.11237
SEQUENCE:3
DTSTAMP:20260424T135035Z
URL:https://business.gainesvillecofc.com/events/details/tile-liquidators-grand-opening-ribbon-cutting-11237
END:VEVENT

END:VCALENDAR
