BEGIN:VCALENDAR
VERSION:2.0
PRODID:-//ChamberMaster//Event Calendar 2.0//EN
METHOD:PUBLISH
X-PUBLISHED-TTL:P3D
REFRESH-INTERVAL:P3D
CALSCALE:GREGORIAN
BEGIN:VEVENT
DTSTART:20210625T230000Z
DTEND:20210626T030000Z
X-MICROSOFT-CDO-ALLDAYEVENT:FALSE
SUMMARY:Summer Sounds
DESCRIPTION:Summer Sounds - Sunny Sweeney - Morgan and Her Boyfriends - Bailey Julian
X-ALT-DESC;FMTTYPE=text/html:Summer Sounds - Sunny Sweeney - Morgan and Her Boyfriends - Bailey Julian
LOCATION:Farmers Market
UID:e.1216.10292
SEQUENCE:3
DTSTAMP:20260425T231926Z
URL:https://business.gainesvillecofc.com/events/details/summer-sounds-10292
END:VEVENT

END:VCALENDAR
