BEGIN:VCALENDAR
VERSION:2.0
PRODID:-//ChamberMaster//Event Calendar 2.0//EN
METHOD:PUBLISH
X-PUBLISHED-TTL:P3D
REFRESH-INTERVAL:P3D
CALSCALE:GREGORIAN
BEGIN:VEVENT
DTSTART:20211030T190000Z
DTEND:20211030T210000Z
X-MICROSOFT-CDO-ALLDAYEVENT:FALSE
SUMMARY:Scare on the Square
DESCRIPTION:
X-ALT-DESC;FMTTYPE=text/html:
LOCATION:
UID:e.1216.10271
SEQUENCE:3
DTSTAMP:20260425T203517Z
URL:https://business.gainesvillecofc.com/events/details/scare-on-the-square-10271
END:VEVENT

END:VCALENDAR
