BEGIN:VCALENDAR
VERSION:2.0
PRODID:-//ChamberMaster//Event Calendar 2.0//EN
METHOD:PUBLISH
X-PUBLISHED-TTL:P3D
REFRESH-INTERVAL:P3D
CALSCALE:GREGORIAN
BEGIN:VEVENT
DTSTART:20210928T124500Z
DTEND:20210928T140000Z
X-MICROSOFT-CDO-ALLDAYEVENT:FALSE
SUMMARY:Rise & Shine - Texas Computer Scout
DESCRIPTION:Rise & Shine Hosted by Texas Computer Scout\n\nRise & Shine is a networking breakfast created to promote the businesses and organizations of those who attend. Person-to-person networking leads to business referrals. Business owners\, sales and marketing personnel\, and other employees are encouraged to attend.
X-ALT-DESC;FMTTYPE=text/html:<span style="color: rgb(51\, 51\, 51)\; font-size: 13px\; font-family: Arial\, &quot\;Helvetica Neue&quot\;\, Helvetica\, sans-serif\; background-color: rgba(255\, 255\, 255\, 0.94)\; box-sizing: border-box\;"><span style="font-size: 12px\;"><span style="font-size:16px\;"><strong>Rise &amp\; Shine Hosted by Texas Computer Scout</strong></span><br />\nRise &amp\; Shine is a networking breakfast created to promote the&nbsp\;businesses and organizations of those who attend. Person-to-person networking&nbsp\;</span></span><span style="color: rgb(51\, 51\, 51)\; font-family: Arial\, &quot\;Helvetica Neue&quot\;\, Helvetica\, sans-serif\; font-size: 12px\; background-color: rgba(255\, 255\, 255\, 0.94)\; box-sizing: border-box\;">leads to business referrals. Business owners\, sales and marketing personnel\,&nbsp\;and other employees are encouraged to attend.</span>
LOCATION:Gainesville Civic Center
UID:e.1216.10123
SEQUENCE:3
DTSTAMP:20260425T191604Z
URL:https://business.gainesvillecofc.com/events/details/rise-shine-texas-computer-scout-10123
END:VEVENT

END:VCALENDAR
