BEGIN:VCALENDAR
VERSION:2.0
PRODID:-//ChamberMaster//Event Calendar 2.0//EN
METHOD:PUBLISH
X-PUBLISHED-TTL:P3D
REFRESH-INTERVAL:P3D
CALSCALE:GREGORIAN
BEGIN:VEVENT
DTSTART:20211109T134500Z
DTEND:20211109T150000Z
X-MICROSOFT-CDO-ALLDAYEVENT:FALSE
SUMMARY:Rise & Shine - Modern Woodmen Fraternal Financial
DESCRIPTION:Hosted by: Modern Woodmen Fraternal Financial\n\nRise & Shine is a networking breakfast created to promote the businesses and organizations of those who attend. Person-to-person networking leads to business referrals. Business owners\, sales and marketing personnel\, and other employees are encouraged to attend.
X-ALT-DESC;FMTTYPE=text/html:<span style="color: rgb(51\, 51\, 51)\; font-size: 13px\; font-family: Arial\, &quot\;Helvetica Neue&quot\;\, Helvetica\, sans-serif\; background-color: rgba(255\, 255\, 255\, 0.94)\; box-sizing: border-box\;"><span style="font-size: 12px\;"><span style="font-size:16px\;"><strong>Hosted by: </strong></span></span></span><span style="font-size:16px\;"><strong>Modern Woodmen Fraternal Financial</strong></span><br />\n<span style="color: rgb(51\, 51\, 51)\; font-size: 13px\; font-family: Arial\, &quot\;Helvetica Neue&quot\;\, Helvetica\, sans-serif\; background-color: rgba(255\, 255\, 255\, 0.94)\; box-sizing: border-box\;"><span style="font-size: 12px\;">Rise &amp\; Shine is a networking breakfast created to promote the&nbsp\;businesses and organizations of those who attend. Person-to-person networking&nbsp\;</span></span><span style="color: rgb(51\, 51\, 51)\; font-family: Arial\, &quot\;Helvetica Neue&quot\;\, Helvetica\, sans-serif\; font-size: 12px\; background-color: rgba(255\, 255\, 255\, 0.94)\; box-sizing: border-box\;">leads to business referrals. Business owners\, sales and marketing personnel\,&nbsp\;and other employees are encouraged to attend.</span>
LOCATION:Gainesville Civic Center
UID:e.1216.10000
SEQUENCE:3
DTSTAMP:20260425T173410Z
URL:https://business.gainesvillecofc.com/events/details/rise-shine-modern-woodmen-fraternal-financial-10000
END:VEVENT

END:VCALENDAR
