BEGIN:VCALENDAR
VERSION:2.0
PRODID:-//ChamberMaster//Event Calendar 2.0//EN
METHOD:PUBLISH
X-PUBLISHED-TTL:P3D
REFRESH-INTERVAL:P3D
CALSCALE:GREGORIAN
BEGIN:VEVENT
DTSTART:20231114T134500Z
DTEND:20231114T150000Z
X-MICROSOFT-CDO-ALLDAYEVENT:FALSE
SUMMARY:Rise & Shine Hosted by the Gainesville Area Chamber of Commerce
DESCRIPTION:Rise & Shine Hosted by Gainesville Area Chamber of Commerce\n\nRise and Shine is a networking group whose goal is to promote the businesses and organizations of those who attend. Person-to-person networking leads to business referrals. Business owners\, sales and marketing personnel\, and other employees are encouraged to attend. Come at 7:45 a.m. to network. The meeting starts promptly at 8. If we are already in session when you arrive\, come on in! Membership in the Gainesville Area Chamber of Commerce is not required to attend.  You must be a Chamber Member to host a Rise and Shine.
X-ALT-DESC;FMTTYPE=text/html:<span style="font-size:14px\;"><strong>Rise &amp\; Shine Hosted by&nbsp\;</strong><span style="color: rgb(51\, 51\, 51)\; font-family: sans-serif\, Arial\, Verdana\, &quot\;Trebuchet MS&quot\;\; background-color: rgb(255\, 255\, 255)\;"><strong>Gainesville Area Chamber of Commerce</strong></span></span><br />\n<span style="color: rgb(51\, 51\, 51)\; font-family: arial\; font-size: 12px\; box-sizing: border-box\; background-color: rgba(255\, 255\, 255\, 0.94)\;">Rise and Shine is a networking group whose goal is to promote the&nbsp\;businesses and organizations of those who attend. Person-to-person networking&nbsp\;leads to business referrals. Business owners\, sales and marketing personnel\,&nbsp\;</span><span style="color: rgb(51\, 51\, 51)\; font-family: arial\; font-size: 12px\; box-sizing: border-box\; background-color: rgba(255\, 255\, 255\, 0.94)\;">and other employees are encouraged to attend. Come at 7:45 a.m. to network. The&nbsp\;</span><span style="color: rgb(51\, 51\, 51)\; font-family: arial\; font-size: 12px\; box-sizing: border-box\; background-color: rgba(255\, 255\, 255\, 0.94)\;">meeting starts promptly at 8. If we are already in session when you arrive\,&nbsp\;come on in! Membership in the Gainesville&nbsp\;Area Chamber of Commerce is not required to attend.&nbsp\; You must be a Chamber Member to host a Rise and Shine.</span>
LOCATION:Gainesville Civic Center Meeting Room #1
UID:e.1216.9641
SEQUENCE:3
DTSTAMP:20260424T021817Z
URL:https://business.gainesvillecofc.com/events/details/rise-shine-hosted-by-the-gainesville-area-chamber-of-commerce-9641
END:VEVENT

END:VCALENDAR
