BEGIN:VCALENDAR
VERSION:2.0
PRODID:-//ChamberMaster//Event Calendar 2.0//EN
METHOD:PUBLISH
X-PUBLISHED-TTL:P3D
REFRESH-INTERVAL:P3D
CALSCALE:GREGORIAN
BEGIN:VEVENT
DTSTART:20210713T124500Z
DTEND:20210713T130000Z
X-MICROSOFT-CDO-ALLDAYEVENT:FALSE
SUMMARY:Rise & Shine - Hosted by Main Street Steakhouse & Pub
DESCRIPTION:Rise & Shine - Hosted by Main Street Steakhouse & Pub\n\nRise & Shine is a networking breakfast created to promote the businesses and organizations of those who attend. Person-to-person networking leads to business referrals. Business owners\, sales and marketing personnel\, and other employees are encouraged to attend.
X-ALT-DESC;FMTTYPE=text/html:<span style="font-size:16px\;"><strong>Rise &amp\; Shine - Hosted by Main Street Steakhouse &amp\; Pub</strong></span><br />\n<span style="color: rgb(51\, 51\, 51)\; font-size: 13px\; font-family: Arial\, &quot\;Helvetica Neue&quot\;\, Helvetica\, sans-serif\; background-color: rgba(255\, 255\, 255\, 0.94)\; box-sizing: border-box\;"><span style="font-size: 12px\;">Rise &amp\; Shine is a networking breakfast created to promote the&nbsp\;businesses and organizations of those who attend. Person-to-person networking&nbsp\;</span></span><span style="color: rgb(51\, 51\, 51)\; font-family: Arial\, &quot\;Helvetica Neue&quot\;\, Helvetica\, sans-serif\; font-size: 12px\; background-color: rgba(255\, 255\, 255\, 0.94)\; box-sizing: border-box\;">leads to business referrals. Business owners\, sales and marketing personnel\,&nbsp\;and other employees are encouraged to attend.</span>
LOCATION:Gainesville Civic Center
UID:e.1216.9994
SEQUENCE:3
DTSTAMP:20260425T220536Z
URL:https://business.gainesvillecofc.com/events/details/rise-shine-hosted-by-main-street-steakhouse-pub-9994
END:VEVENT

END:VCALENDAR
