BEGIN:VCALENDAR
VERSION:2.0
PRODID:-//ChamberMaster//Event Calendar 2.0//EN
METHOD:PUBLISH
X-PUBLISHED-TTL:P3D
REFRESH-INTERVAL:P3D
CALSCALE:GREGORIAN
BEGIN:VEVENT
DTSTART:20240109T134500Z
DTEND:20240109T150000Z
X-MICROSOFT-CDO-ALLDAYEVENT:FALSE
SUMMARY:Rise & Shine Hosted by Dermatology & Skin Cancer Surgery Center
DESCRIPTION:Everyone is invited to join us for our first Rise & Shine of the new year with Dermatology and Skin Cancer Surgery Center! Come learn more about what this office can do for you and your family!
X-ALT-DESC;FMTTYPE=text/html:<span style="color: rgb(5\, 5\, 5)\; font-family: &quot\;Segoe UI Historic&quot\;\, &quot\;Segoe UI&quot\;\, Helvetica\, Arial\, sans-serif\; font-size: 15px\; background-color: rgb(255\, 255\, 255)\;">Everyone is invited to join us for our first Rise &amp\; Shine of the new year with Dermatology and Skin Cancer Surgery Center! Come learn more about what this office can do for you and your family!</span>
LOCATION:Gainesville Civic Center - Meeting Room 1
UID:e.1216.12251
SEQUENCE:3
DTSTAMP:20260423T231533Z
URL:https://business.gainesvillecofc.com/events/details/rise-shine-hosted-by-dermatology-skin-cancer-surgery-center-12251
END:VEVENT

END:VCALENDAR
