BEGIN:VCALENDAR
VERSION:2.0
PRODID:-//ChamberMaster//Event Calendar 2.0//EN
METHOD:PUBLISH
X-PUBLISHED-TTL:P3D
REFRESH-INTERVAL:P3D
CALSCALE:GREGORIAN
BEGIN:VEVENT
DTSTART:20240123T134500Z
DTEND:20240123T150000Z
X-MICROSOFT-CDO-ALLDAYEVENT:FALSE
SUMMARY:Rise & Shine Hosted by CourseVector
DESCRIPTION:If your business has a website\, or maybe needs one\, then this Rise & Shine is perfect for you! Come hear from CourseVector and how they are here to support your website and SEO needs!
X-ALT-DESC;FMTTYPE=text/html:<span style="color: rgb(5\, 5\, 5)\; font-family: &quot\;Segoe UI Historic&quot\;\, &quot\;Segoe UI&quot\;\, Helvetica\, Arial\, sans-serif\; font-size: 15px\;">If your business has a website\, or maybe needs one\, then this Rise &amp\; Shine is perfect for you! Come hear from CourseVector and how they are here to support your website and SEO needs!</span>
LOCATION:Gainesville Civic Center - Meeting Room 1
UID:e.1216.12253
SEQUENCE:3
DTSTAMP:20260423T225748Z
URL:https://business.gainesvillecofc.com/events/details/rise-shine-hosted-by-coursevector-12253
END:VEVENT

END:VCALENDAR
