BEGIN:VCALENDAR
VERSION:2.0
PRODID:-//ChamberMaster//Event Calendar 2.0//EN
METHOD:PUBLISH
X-PUBLISHED-TTL:P3D
REFRESH-INTERVAL:P3D
CALSCALE:GREGORIAN
BEGIN:VEVENT
DTSTART:20210914T124500Z
DTEND:20210914T140000Z
X-MICROSOFT-CDO-ALLDAYEVENT:FALSE
SUMMARY:Rise & Shine - First United Bank & Trust
DESCRIPTION:Hosted by: First United Bank & Trust\n\nRise & Shine is a networking breakfast created to promote the businesses and organizations of those who attend. Person-to-person networking leads to business referrals. Business owners\, sales and marketing personnel\, and other employees are encouraged to attend.
X-ALT-DESC;FMTTYPE=text/html:<span style="color: rgb(51\, 51\, 51)\; font-size: 13px\; font-family: Arial\, &quot\;Helvetica Neue&quot\;\, Helvetica\, sans-serif\; background-color: rgba(255\, 255\, 255\, 0.94)\; box-sizing: border-box\;"><span style="font-size: 12px\;"><span style="font-size:16px\;"><strong>Hosted by: First United Bank &amp\; Trust</strong></span><br />\nRise &amp\; Shine is a networking breakfast created to promote the&nbsp\;businesses and organizations of those who attend. Person-to-person networking&nbsp\;</span></span><span style="color: rgb(51\, 51\, 51)\; font-family: Arial\, &quot\;Helvetica Neue&quot\;\, Helvetica\, sans-serif\; font-size: 12px\; background-color: rgba(255\, 255\, 255\, 0.94)\; box-sizing: border-box\;">leads to business referrals. Business owners\, sales and marketing personnel\,&nbsp\;and other employees are encouraged to attend.</span>
LOCATION:Gainesville Civic Center
UID:e.1216.9998
SEQUENCE:3
DTSTAMP:20260425T191754Z
URL:https://business.gainesvillecofc.com/events/details/rise-shine-first-united-bank-trust-9998
END:VEVENT

END:VCALENDAR
