BEGIN:VCALENDAR
VERSION:2.0
PRODID:-//ChamberMaster//Event Calendar 2.0//EN
METHOD:PUBLISH
X-PUBLISHED-TTL:P3D
REFRESH-INTERVAL:P3D
CALSCALE:GREGORIAN
BEGIN:VEVENT
DTSTART:20210820T203000Z
DTEND:20210820T210000Z
X-MICROSOFT-CDO-ALLDAYEVENT:FALSE
SUMMARY:Ribbon Cuttings - Main Street Steakhouse & Pub and Main Street Pub Store
DESCRIPTION:Ribbon Cuttings - The Main Street Steakhouse & Pub and Main Street Pub Store
X-ALT-DESC;FMTTYPE=text/html:Ribbon Cuttings - The&nbsp\;<span style="color: rgb(51\, 51\, 51)\; font-family: sans-serif\, Arial\, Verdana\, &quot\;Trebuchet MS&quot\;\; font-size: 13px\; background-color: rgb(255\, 255\, 255)\;">Main Street Steakhouse &amp\; Pub and </span>Main Street Pub Store
LOCATION:212 W. Main Street Gainesville
UID:e.1216.10459
SEQUENCE:3
DTSTAMP:20260425T205937Z
URL:https://business.gainesvillecofc.com/events/details/ribbon-cuttings-main-street-steakhouse-pub-and-main-street-pub-store-10459
END:VEVENT

END:VCALENDAR
