BEGIN:VCALENDAR
VERSION:2.0
PRODID:-//ChamberMaster//Event Calendar 2.0//EN
METHOD:PUBLISH
X-PUBLISHED-TTL:P3D
REFRESH-INTERVAL:P3D
CALSCALE:GREGORIAN
BEGIN:VEVENT
DTSTART:20210920T213000Z
DTEND:20210920T220000Z
X-MICROSOFT-CDO-ALLDAYEVENT:FALSE
SUMMARY:Ribbon Cutting - Triple C Bounce House
DESCRIPTION:Ribbon Cutting - Triple C Bounce House
X-ALT-DESC;FMTTYPE=text/html:Ribbon Cutting - Triple C Bounce House
LOCATION:Gainesville Civic Center - Lobby
UID:e.1216.10480
SEQUENCE:3
DTSTAMP:20260425T191738Z
URL:https://business.gainesvillecofc.com/events/details/ribbon-cutting-triple-c-bounce-house-10480
END:VEVENT

END:VCALENDAR
