BEGIN:VCALENDAR
VERSION:2.0
PRODID:-//ChamberMaster//Event Calendar 2.0//EN
METHOD:PUBLISH
X-PUBLISHED-TTL:P3D
REFRESH-INTERVAL:P3D
CALSCALE:GREGORIAN
BEGIN:VEVENT
DTSTART:20210824T140000Z
DTEND:20210824T140500Z
X-MICROSOFT-CDO-ALLDAYEVENT:FALSE
SUMMARY:Ribbon Cutting - T-Mobile
DESCRIPTION:Ribbon Cutting - T-Mobile
X-ALT-DESC;FMTTYPE=text/html:Ribbon Cutting - T-Mobile
LOCATION:Gainesville Civic Center
UID:e.1216.10460
SEQUENCE:3
DTSTAMP:20260425T220056Z
URL:https://business.gainesvillecofc.com/events/details/ribbon-cutting-t-mobile-10460
END:VEVENT

END:VCALENDAR
