BEGIN:VCALENDAR
VERSION:2.0
PRODID:-//ChamberMaster//Event Calendar 2.0//EN
METHOD:PUBLISH
X-PUBLISHED-TTL:P3D
REFRESH-INTERVAL:P3D
CALSCALE:GREGORIAN
BEGIN:VEVENT
DTSTART:20210625T170000Z
DTEND:20210625T190000Z
X-MICROSOFT-CDO-ALLDAYEVENT:FALSE
SUMMARY:Ribbon Cutting/SNI Pharmacy
DESCRIPTION:Ribbon Cutting/SNI Pharmacy\n\nBBQ will be served from 12 - 2
X-ALT-DESC;FMTTYPE=text/html:Ribbon Cutting/SNI Pharmacy<br />\nBBQ will be served from 12 - 2
LOCATION:842 E. California Unit A Gainesville\, TX. 73240
UID:e.1216.10311
SEQUENCE:3
DTSTAMP:20260425T232525Z
URL:https://business.gainesvillecofc.com/events/details/ribbon-cutting-sni-pharmacy-10311
END:VEVENT

END:VCALENDAR
