BEGIN:VCALENDAR
VERSION:2.0
PRODID:-//ChamberMaster//Event Calendar 2.0//EN
METHOD:PUBLISH
X-PUBLISHED-TTL:P3D
REFRESH-INTERVAL:P3D
CALSCALE:GREGORIAN
BEGIN:VEVENT
DTSTART:20210527T163000Z
DTEND:20210527T170000Z
X-MICROSOFT-CDO-ALLDAYEVENT:FALSE
SUMMARY:Ribbon Cutting - Nextlink Internet
DESCRIPTION:Ribbon Cutting - Nextlink Internet
X-ALT-DESC;FMTTYPE=text/html:Ribbon Cutting - Nextlink Internet
LOCATION:6579 South Interstate 35\, Suite 200
UID:e.1216.10303
SEQUENCE:3
DTSTAMP:20260426T021648Z
URL:https://business.gainesvillecofc.com/events/details/ribbon-cutting-nextlink-internet-10303
END:VEVENT

END:VCALENDAR
