BEGIN:VCALENDAR
VERSION:2.0
PRODID:-//ChamberMaster//Event Calendar 2.0//EN
METHOD:PUBLISH
X-PUBLISHED-TTL:P3D
REFRESH-INTERVAL:P3D
CALSCALE:GREGORIAN
BEGIN:VEVENT
DTSTART:20210622T140000Z
DTEND:20210622T141000Z
X-MICROSOFT-CDO-ALLDAYEVENT:FALSE
SUMMARY:Ribbon Cutting - HY Insurance
DESCRIPTION:Ribbon Cutting - HY Insurance\n\nImmediately following Rise & Shine
X-ALT-DESC;FMTTYPE=text/html:Ribbon Cutting - HY Insurance<br />\nImmediately following Rise &amp\; Shine
LOCATION:Gainesville Civic Center 311 S. Weaver Street Gainesville
UID:e.1216.10309
SEQUENCE:3
DTSTAMP:20260425T232524Z
URL:https://business.gainesvillecofc.com/events/details/ribbon-cutting-hy-insurance-10309
END:VEVENT

END:VCALENDAR
