BEGIN:VCALENDAR
VERSION:2.0
PRODID:-//ChamberMaster//Event Calendar 2.0//EN
METHOD:PUBLISH
X-PUBLISHED-TTL:P3D
REFRESH-INTERVAL:P3D
CALSCALE:GREGORIAN
BEGIN:VEVENT
DTSTART:20210610T163000Z
DTEND:20210610T170000Z
X-MICROSOFT-CDO-ALLDAYEVENT:FALSE
SUMMARY:Ribbon Cutting - Chick-Fil-A
DESCRIPTION:Ribbon Cutting -Chick-Fil-A
X-ALT-DESC;FMTTYPE=text/html:Ribbon Cutting -Chick-Fil-A
LOCATION:1001 W. Hwy 82
UID:e.1216.10308
SEQUENCE:3
DTSTAMP:20260425T233825Z
URL:https://business.gainesvillecofc.com/events/details/ribbon-cutting-chick-fil-a-10308
END:VEVENT

END:VCALENDAR
