BEGIN:VCALENDAR
VERSION:2.0
PRODID:-//ChamberMaster//Event Calendar 2.0//EN
METHOD:PUBLISH
X-PUBLISHED-TTL:P3D
REFRESH-INTERVAL:P3D
CALSCALE:GREGORIAN
BEGIN:VEVENT
DTSTART:20210729T214500Z
DTEND:20210729T221500Z
X-MICROSOFT-CDO-ALLDAYEVENT:FALSE
SUMMARY:Ribbon Cutting/Bella Bliss
DESCRIPTION:Ribbon Cutting / Bella Bliss
X-ALT-DESC;FMTTYPE=text/html:Ribbon Cutting / Bella Bliss
LOCATION:105 A. California Gainesville\, Tx.
UID:e.1216.10325
SEQUENCE:3
DTSTAMP:20260425T220132Z
URL:https://business.gainesvillecofc.com/events/details/ribbon-cutting-bella-bliss-10325
END:VEVENT

END:VCALENDAR
