BEGIN:VCALENDAR
VERSION:2.0
PRODID:-//ChamberMaster//Event Calendar 2.0//EN
METHOD:PUBLISH
X-PUBLISHED-TTL:P3D
REFRESH-INTERVAL:P3D
CALSCALE:GREGORIAN
BEGIN:VEVENT
DTSTART;VALUE=DATE:20210612
DTEND;VALUE=DATE:20210613
TRANSP:TRANSPARENT
X-MICROSOFT-CDO-ALLDAYEVENT:TRUE
SUMMARY:Movie Night At The Farmers Market - "UP" Hosted by PPG
DESCRIPTION:Movie Night At The Farmers Market - "UP' Hosted by PPG
X-ALT-DESC;FMTTYPE=text/html:Movie Night At The Farmers Market - &quot\;UP&#39\; Hosted by PPG
LOCATION:Farmers Market
UID:e.1216.10297
SEQUENCE:3
DTSTAMP:20260425T232637Z
URL:https://business.gainesvillecofc.com/events/details/movie-night-at-the-farmers-market-up-hosted-by-ppg-10297
END:VEVENT

END:VCALENDAR
