BEGIN:VCALENDAR
VERSION:2.0
PRODID:-//ChamberMaster//Event Calendar 2.0//EN
METHOD:PUBLISH
X-PUBLISHED-TTL:P3D
REFRESH-INTERVAL:P3D
CALSCALE:GREGORIAN
BEGIN:VEVENT
DTSTART:20210911T230000Z
DTEND:20210912T020000Z
X-MICROSOFT-CDO-ALLDAYEVENT:FALSE
SUMMARY:Movie Night At The Farmers Market - The War with Grandpa" Hosted by: North Texas Children's Dentistry
DESCRIPTION:Movie Night At The Farmers Market - "The War with Grandpa"   Hosted by: North Texas Children's Dentistry
X-ALT-DESC;FMTTYPE=text/html:Movie Night At The Farmers Market - &quot\;The War with Grandpa&quot\;&nbsp\; &nbsp\;Hosted by: North Texas Children&#39\;s Dentistry
LOCATION:Farmers Market
UID:e.1216.10266
SEQUENCE:3
DTSTAMP:20260425T192004Z
URL:https://business.gainesvillecofc.com/events/details/movie-night-at-the-farmers-market-the-war-with-grandpa-hosted-by-north-texas-children-s-dentistry-10266
END:VEVENT

END:VCALENDAR
