BEGIN:VCALENDAR
VERSION:2.0
PRODID:-//ChamberMaster//Event Calendar 2.0//EN
METHOD:PUBLISH
X-PUBLISHED-TTL:P3D
REFRESH-INTERVAL:P3D
CALSCALE:GREGORIAN
BEGIN:VEVENT
DTSTART:20211205T000000Z
DTEND:20211205T030000Z
X-MICROSOFT-CDO-ALLDAYEVENT:FALSE
SUMMARY:Movie Night At The Farmers Market "The Grinch" Hosted by - Gainesville Economic Development Corporation
DESCRIPTION:Movie Night At The Farmers Market "The Grinch" Hosted by - Gainesville Economic Development Corporation
X-ALT-DESC;FMTTYPE=text/html:Movie Night At The Farmers Market &quot\;The Grinch&quot\; Hosted by - Gainesville Economic Development Corporation
LOCATION:Farmers Market
UID:e.1216.10269
SEQUENCE:3
DTSTAMP:20260425T160032Z
URL:https://business.gainesvillecofc.com/events/details/movie-night-at-the-farmers-market-the-grinch-hosted-by-gainesville-economic-development-corporation-10269
END:VEVENT

END:VCALENDAR
