BEGIN:VCALENDAR
VERSION:2.0
PRODID:-//ChamberMaster//Event Calendar 2.0//EN
METHOD:PUBLISH
X-PUBLISHED-TTL:P3D
REFRESH-INTERVAL:P3D
CALSCALE:GREGORIAN
BEGIN:VEVENT
DTSTART:20230611T000000Z
DTEND:20230611T020000Z
X-MICROSOFT-CDO-ALLDAYEVENT:FALSE
SUMMARY:Movie Night At The Farmers Market - Sponsored by Texas Star Embroidery
DESCRIPTION:Sponsored by \n\nALL START TIMES ARE ESTIMATED - MOVIES WILL BEGIN AT DARK
X-ALT-DESC;FMTTYPE=text/html:<strong style="color: rgb(51\, 51\, 51)\; font-family: sans-serif\, Arial\, Verdana\, &quot\;Trebuchet MS&quot\;\; font-size: 13px\;">Sponsored by&nbsp\;<br />\nALL START TIMES ARE ESTIMATED - MOVIES WILL BEGIN AT DARK</strong>
LOCATION:
UID:e.1216.10472
SEQUENCE:3
DTSTAMP:20260424T105254Z
URL:https://business.gainesvillecofc.com/events/details/movie-night-at-the-farmers-market-sponsored-by-texas-star-embroidery-10472
END:VEVENT

END:VCALENDAR
