BEGIN:VCALENDAR
VERSION:2.0
PRODID:-//ChamberMaster//Event Calendar 2.0//EN
METHOD:PUBLISH
X-PUBLISHED-TTL:P3D
REFRESH-INTERVAL:P3D
CALSCALE:GREGORIAN
BEGIN:VEVENT
DTSTART:20210710T230000Z
DTEND:20210711T020000Z
X-MICROSOFT-CDO-ALLDAYEVENT:FALSE
SUMMARY:Movie Night At The Farmers Market - "Incredibles 2" Hosted by: Hometown Radio KGAF
DESCRIPTION:Movie Night At The Farmers Market -  "Incredibles 2"  Hosted by: Hometown Radio KGAF
X-ALT-DESC;FMTTYPE=text/html:Movie Night At The Farmers Market -&nbsp\; &quot\;Incredibles 2&quot\;&nbsp\; Hosted by: Hometown Radio KGAF
LOCATION:Farmers Market
UID:e.1216.10263
SEQUENCE:3
DTSTAMP:20260425T232730Z
URL:https://business.gainesvillecofc.com/events/details/movie-night-at-the-farmers-market-incredibles-2-hosted-by-hometown-radio-kgaf-10263
END:VEVENT

END:VCALENDAR
