BEGIN:VCALENDAR
VERSION:2.0
PRODID:-//ChamberMaster//Event Calendar 2.0//EN
METHOD:PUBLISH
X-PUBLISHED-TTL:P3D
REFRESH-INTERVAL:P3D
CALSCALE:GREGORIAN
BEGIN:VEVENT
DTSTART:20231210T010000Z
DTEND:20231210T030000Z
X-MICROSOFT-CDO-ALLDAYEVENT:FALSE
SUMMARY:Movie Night At The Farmers Market - Co-Sponsored by Chick-Fil-A Gainesville and Gainesville Area Chamber of Commerce
DESCRIPTION:ALL START TIMES ARE ESTIMATED - MOVIES WILL BEGIN AT DARK
X-ALT-DESC;FMTTYPE=text/html:<strong style="color: rgb(51\, 51\, 51)\; font-family: sans-serif\, Arial\, Verdana\, &quot\;Trebuchet MS&quot\;\; font-size: 13px\;">ALL START TIMES ARE ESTIMATED - MOVIES WILL BEGIN AT DARK</strong>
LOCATION:
UID:e.1216.10473
SEQUENCE:3
DTSTAMP:20260424T022005Z
URL:https://business.gainesvillecofc.com/events/details/movie-night-at-the-farmers-market-co-sponsored-by-chick-fil-a-gainesville-and-gainesville-area-chamber-of-commerce-10473
END:VEVENT

END:VCALENDAR
