BEGIN:VCALENDAR
VERSION:2.0
PRODID:-//ChamberMaster//Event Calendar 2.0//EN
METHOD:PUBLISH
X-PUBLISHED-TTL:P3D
REFRESH-INTERVAL:P3D
CALSCALE:GREGORIAN
BEGIN:VEVENT
DTSTART:20210814T230000Z
DTEND:20210815T020000Z
X-MICROSOFT-CDO-ALLDAYEVENT:FALSE
SUMMARY:Movie Night At The Farmers Market - " Charlottes Web" Hosted by Herkey's Champion Buyers Club
DESCRIPTION:Movie Night At The Farmers Market - "Charlottes Web" Hosted by Herkey's Champion Buyers Club
X-ALT-DESC;FMTTYPE=text/html:Movie Night At The Farmers Market - &quot\;Charlottes Web&quot\; Hosted by Herkey&#39\;s Champion Buyers Club
LOCATION:Farmers Market
UID:e.1216.10265
SEQUENCE:3
DTSTAMP:20260425T204755Z
URL:https://business.gainesvillecofc.com/events/details/movie-night-at-the-farmers-market-charlottes-web-hosted-by-herkey-s-champion-buyers-club-10265
END:VEVENT

END:VCALENDAR
