BEGIN:VCALENDAR
VERSION:2.0
PRODID:-//ChamberMaster//Event Calendar 2.0//EN
METHOD:PUBLISH
X-PUBLISHED-TTL:P3D
REFRESH-INTERVAL:P3D
CALSCALE:GREGORIAN
BEGIN:VEVENT
DTSTART:20210410T230000Z
DTEND:20210411T020000Z
X-MICROSOFT-CDO-ALLDAYEVENT:FALSE
SUMMARY:Movie Night At The Farmers Market "CARS" Hosted by Glenn Polk Autoplex
DESCRIPTION:Movie Night At The Farmers Market "CARS" Hosted by Glenn Polk Autoplex
X-ALT-DESC;FMTTYPE=text/html:Movie Night At The Farmers Market &quot\;CARS&quot\; Hosted by Glenn Polk Autoplex
LOCATION:Farmers Market
UID:e.1216.10261
SEQUENCE:3
DTSTAMP:20260426T022038Z
URL:https://business.gainesvillecofc.com/events/details/movie-night-at-the-farmers-market-cars-hosted-by-glenn-polk-autoplex-10261
END:VEVENT

END:VCALENDAR
