BEGIN:VCALENDAR
VERSION:2.0
PRODID:-//ChamberMaster//Event Calendar 2.0//EN
METHOD:PUBLISH
X-PUBLISHED-TTL:P3D
REFRESH-INTERVAL:P3D
CALSCALE:GREGORIAN
BEGIN:VEVENT
DTSTART:20210515T230000Z
DTEND:20210516T020000Z
X-MICROSOFT-CDO-ALLDAYEVENT:FALSE
SUMMARY:Movie Night At The Farmers Market " Babe" Hosted by: D&L Farm & Home
DESCRIPTION:Movie Night At The Farmers Market  "Babe"\n\nHosted by: D&L Farm & Home
X-ALT-DESC;FMTTYPE=text/html:Movie Night At The Farmers Market&nbsp\; &quot\;Babe&quot\;<br />\nHosted by: D&amp\;L Farm &amp\; Home
LOCATION:Farmers Market
UID:e.1216.10262
SEQUENCE:3
DTSTAMP:20260426T004414Z
URL:https://business.gainesvillecofc.com/events/details/movie-night-at-the-farmers-market-babe-hosted-by-d-l-farm-home-10262
END:VEVENT

END:VCALENDAR
