BEGIN:VCALENDAR
VERSION:2.0
PRODID:-//ChamberMaster//Event Calendar 2.0//EN
METHOD:PUBLISH
X-PUBLISHED-TTL:P3D
REFRESH-INTERVAL:P3D
CALSCALE:GREGORIAN
BEGIN:VEVENT
DTSTART:20211013T130000Z
DTEND:20211013T200000Z
X-MICROSOFT-CDO-ALLDAYEVENT:FALSE
SUMMARY:Leadership Gainesville - Municipal Government Day
DESCRIPTION:Leadership Gainesville - Municipal Government Day
X-ALT-DESC;FMTTYPE=text/html:Leadership Gainesville - Municipal Government Day
LOCATION:
UID:e.1216.10314
SEQUENCE:3
DTSTAMP:20260425T191732Z
URL:https://business.gainesvillecofc.com/events/details/leadership-gainesville-municipal-government-day-10314
END:VEVENT

END:VCALENDAR
