BEGIN:VCALENDAR
VERSION:2.0
PRODID:-//ChamberMaster//Event Calendar 2.0//EN
METHOD:PUBLISH
X-PUBLISHED-TTL:P3D
REFRESH-INTERVAL:P3D
CALSCALE:GREGORIAN
BEGIN:VEVENT
DTSTART:20220908T230000Z
DTEND:20220909T010000Z
X-MICROSOFT-CDO-ALLDAYEVENT:FALSE
SUMMARY:Leadership Gainesville - Meet & Greet (tentative)
DESCRIPTION:Leadership Gainesville is a 9 month training experience\, limited to 15 participants (community leaders) who represent all aspects of the community. In Each session\, the class gets to network across Gainesville in order to bring people together for positive accomplishments. develop leadership skills\, and cultivate volunteer service.
X-ALT-DESC;FMTTYPE=text/html:Leadership Gainesville is a 9 month training experience\, limited to 15 participants (community leaders) who represent all aspects of the community. In Each session\, the class gets to network across Gainesville in order to bring people together for positive accomplishments. develop leadership skills\, and cultivate volunteer service.&nbsp\;
LOCATION:
UID:e.1216.10476
SEQUENCE:3
DTSTAMP:20260425T002548Z
URL:https://business.gainesvillecofc.com/events/details/leadership-gainesville-meet-greet-tentative-10476
END:VEVENT

END:VCALENDAR
