BEGIN:VCALENDAR
VERSION:2.0
PRODID:-//ChamberMaster//Event Calendar 2.0//EN
METHOD:PUBLISH
X-PUBLISHED-TTL:P3D
REFRESH-INTERVAL:P3D
CALSCALE:GREGORIAN
BEGIN:VEVENT
DTSTART:20211110T140000Z
DTEND:20211110T210000Z
X-MICROSOFT-CDO-ALLDAYEVENT:FALSE
SUMMARY:Leadership Gainesville - Agriculture Day
DESCRIPTION:Leadership Gainesville - Agriculture Day
X-ALT-DESC;FMTTYPE=text/html:Leadership Gainesville - Agriculture Day
LOCATION:
UID:e.1216.10315
SEQUENCE:3
DTSTAMP:20260425T173226Z
URL:https://business.gainesvillecofc.com/events/details/leadership-gainesville-agriculture-day-10315
END:VEVENT

END:VCALENDAR
