BEGIN:VCALENDAR
VERSION:2.0
PRODID:-//ChamberMaster//Event Calendar 2.0//EN
METHOD:PUBLISH
X-PUBLISHED-TTL:P3D
REFRESH-INTERVAL:P3D
CALSCALE:GREGORIAN
BEGIN:VEVENT
DTSTART:20230217T223000Z
DTEND:20230217T230000Z
X-MICROSOFT-CDO-ALLDAYEVENT:FALSE
SUMMARY:Lasor Loft Ribbon Cutting
DESCRIPTION:Ribbon Cutting for \n\nLaser Loft
X-ALT-DESC;FMTTYPE=text/html:Ribbon Cutting for&nbsp\;<br />\nLaser Loft
LOCATION:108 W Main St Gainesville\, TX.
UID:e.1216.11232
SEQUENCE:3
DTSTAMP:20260424T171550Z
URL:https://business.gainesvillecofc.com/events/details/lasor-loft-ribbon-cutting-11232
END:VEVENT

END:VCALENDAR
