BEGIN:VCALENDAR
VERSION:2.0
PRODID:-//ChamberMaster//Event Calendar 2.0//EN
METHOD:PUBLISH
X-PUBLISHED-TTL:P3D
REFRESH-INTERVAL:P3D
CALSCALE:GREGORIAN
BEGIN:VEVENT
DTSTART:20251119T173000Z
DTEND:20251119T193000Z
X-MICROSOFT-CDO-ALLDAYEVENT:FALSE
SUMMARY:Knowledge NOW Luncheon presented by Red River Rides - State of the City
DESCRIPTION:Join City of Gainesville Mayor Tommy Moore for a discussion on the State of the City at our Knowledge NOW Luncheon presented by Red River Rides. Hear the latest news and developments that are affecting our fast-growing area.
X-ALT-DESC;FMTTYPE=text/html:<span style="color: rgb(8\, 8\, 9)\; font-family: &quot\;Segoe UI Historic&quot\;\, &quot\;Segoe UI&quot\;\, Helvetica\, Arial\, sans-serif\; font-size: 15px\;">Join City of Gainesville Mayor Tommy Moore for a discussion on the State of the City at our Knowledge NOW Luncheon presented by Red River Rides. Hear the latest news and developments that are affecting our fast-growing area.</span>
LOCATION:Gainesville Civic Center 311 S Weaver St Gainesville\, TX 76240
UID:e.1216.12425
SEQUENCE:3
DTSTAMP:20260421T084111Z
URL:https://business.gainesvillecofc.com/events/details/knowledge-now-luncheon-presented-by-red-river-rides-state-of-the-city-12425
END:VEVENT

END:VCALENDAR
