BEGIN:VCALENDAR
VERSION:2.0
PRODID:-//ChamberMaster//Event Calendar 2.0//EN
METHOD:PUBLISH
X-PUBLISHED-TTL:P3D
REFRESH-INTERVAL:P3D
CALSCALE:GREGORIAN
BEGIN:VEVENT
DTSTART:20240303T190000Z
DTEND:20240303T220000Z
X-MICROSOFT-CDO-ALLDAYEVENT:FALSE
SUMMARY:Kiwanis Radio Auction
DESCRIPTION:We are beginning our work to secure donation items for our 2024 Radio Auction in March.  If you have donated in the past\, thank you.  If you have never had the opportunity to donate items to be auctioned off now is the time to start.  The Gainesville Kiwanis Club has been serving the children of Cooke County for more than 80 years.  Our club is very active club with 70+ members working to provide services to the children of Cooke County.  Cooke County population is growing therefore increasing the need as well.  All proceeds go to the youth of Cooke County thru:\n\n	Abigail's Arms\, family crisis center\n	Boys and Girls Club of Cooke County\n	VISTO\, Volunteers in Service to Others\n	United Way\, Cooke County\n	Head Start\, providing books to children\n	Meals on Wheels\, delivering meals weekly\n	Sophomore of the Year GISD Scholarship\n	GISD Education Foundation\n	Key Club Scholarship\, a service club for high school students\, Gainesville\n	Cooke County VIP's & GISD Special Olympics Teams\n	NCTC Scholarships\n	Cooke County 4H\n	CASA. \n	Builder's Clubs\, a service club for students grades 6   8\, in Sivells Bend and St Mary's\n	Aktion Club\, a service club for adults with Disabilities\n	Gainesville Parks & Recreation Trout Fishing Derby\n	Texas Ramps Projects\, Building Ramps for those with disabilities.\n\nYour support is crucial to our efforts to improve the lives of our children thru organizations we support.
X-ALT-DESC;FMTTYPE=text/html:We are beginning our work to secure donation items for our 2024 Radio Auction in March.&nbsp\; If you have donated in the past\, thank you.&nbsp\; If you have never had the opportunity to donate items to be auctioned off now is the time to start.&nbsp\; The Gainesville Kiwanis Club has been serving the children of Cooke County for more than 80 years.&nbsp\; Our club is very active club with 70+ members working to provide services to the children of Cooke County.&nbsp\; Cooke County population is growing therefore increasing the need as well.&nbsp\; <strong>All proceeds go to the youth of Cooke County thru:</strong>\n<ul style="list-style-type:circle">\n	<li>Abigail&rsquo\;s Arms\, family crisis center</li>\n	<li>Boys and Girls Club of Cooke County</li>\n	<li>VISTO\, Volunteers in Service to Others</li>\n	<li>United Way\, Cooke County</li>\n	<li>Head Start\, providing books to children</li>\n	<li>Meals on Wheels\, delivering meals weekly</li>\n	<li>Sophomore of the Year GISD Scholarship</li>\n	<li>GISD Education Foundation</li>\n	<li>Key Club Scholarship\, a service club for high school students\, Gainesville</li>\n	<li>Cooke County VIP&rsquo\;s &amp\; GISD Special Olympics Teams</li>\n	<li>NCTC Scholarships</li>\n	<li>Cooke County 4H</li>\n	<li>CASA.&nbsp\;</li>\n	<li>Builder&rsquo\;s Clubs\, a service club for students grades 6 &ndash\; 8\, in Sivells Bend and St Mary&rsquo\;s</li>\n	<li>Aktion Club\, a service club for adults with Disabilities</li>\n	<li>Gainesville Parks &amp\; Recreation Trout Fishing Derby</li>\n	<li>Texas Ramps Projects\, Building Ramps for those with disabilities.</li>\n</ul>\nYour support is crucial to our efforts to improve the lives of our children thru organizations we support.&nbsp\;
LOCATION:KGAF local radio station #1580AM
UID:e.1216.12250
SEQUENCE:3
DTSTAMP:20260423T162704Z
URL:https://business.gainesvillecofc.com/events/details/kiwanis-radio-auction-12250
END:VEVENT

END:VCALENDAR
