BEGIN:VCALENDAR
VERSION:2.0
PRODID:-//ChamberMaster//Event Calendar 2.0//EN
METHOD:PUBLISH
X-PUBLISHED-TTL:P3D
REFRESH-INTERVAL:P3D
CALSCALE:GREGORIAN
BEGIN:VEVENT
DTSTART:20210604T130000Z
DTEND:20210605T220000Z
X-MICROSOFT-CDO-ALLDAYEVENT:FALSE
SUMMARY:Hwy 82/287 Yard Sale
DESCRIPTION:SELLERS EVENT ONLY\n\nALL PROCEEDS WILL GO TO COOKE COUNTY 4H  AND\n\nTHE COOKE COUNTY FAIR ASSOCIATION
X-ALT-DESC;FMTTYPE=text/html:SELLERS EVENT ONLY<br />\nALL PROCEEDS WILL GO TO COOKE COUNTY 4H&nbsp\; AND<br />\nTHE COOKE COUNTY FAIR ASSOCIATION
LOCATION:Cooke County Fairgrounds (Justice Center Road) Gainesville\, TX 76240
UID:e.1216.10306
SEQUENCE:3
DTSTAMP:20260426T004223Z
URL:https://business.gainesvillecofc.com/events/details/hwy-82-287-yard-sale-10306
END:VEVENT

END:VCALENDAR
