BEGIN:VCALENDAR
VERSION:2.0
PRODID:-//ChamberMaster//Event Calendar 2.0//EN
METHOD:PUBLISH
X-PUBLISHED-TTL:P3D
REFRESH-INTERVAL:P3D
CALSCALE:GREGORIAN
BEGIN:VEVENT
DTSTART:20210429T220000Z
DTEND:20210430T003000Z
X-MICROSOFT-CDO-ALLDAYEVENT:FALSE
SUMMARY:Grand Opening of RejuvedermMD Cosmetic Center in Dermatology & Skin Cancer Surgery Center
DESCRIPTION:Grand Opening of RejuvedermMD Cosmetic Center at DERMATOLOGY & SKIN CANCER SURGERY CENTERS  \n\nAPRIL 29TH 5-7:30PM
X-ALT-DESC;FMTTYPE=text/html:<div style="text-align: center\;"><span style="color:#000080"><span style="font-family:comic sans ms"><strong><em><span style="font-size:26px">Grand Opening of RejuvedermMD Cosmetic Center at DERMATOLOGY &amp\; SKIN CANCER SURGERY CENTERS&nbsp\;&nbsp\;<br />\nAPRIL 29TH 5-7:30PM</span></em></strong></span></span><br />\n&nbsp\;</div>\n<br />\n&nbsp\;
LOCATION:Dermatology & Skin Cancer Surgery Center 214 E. California Street Gainesville\, Texas 76240
UID:e.1216.10299
SEQUENCE:3
DTSTAMP:20260426T022104Z
URL:https://business.gainesvillecofc.com/events/details/grand-opening-of-rejuvedermmd-cosmetic-center-in-dermatology-skin-cancer-surgery-center-10299
END:VEVENT

END:VCALENDAR
