BEGIN:VCALENDAR
VERSION:2.0
PRODID:-//ChamberMaster//Event Calendar 2.0//EN
METHOD:PUBLISH
X-PUBLISHED-TTL:P3D
REFRESH-INTERVAL:P3D
CALSCALE:GREGORIAN
BEGIN:VEVENT
DTSTART:20211118T230000Z
DTEND:20211119T020000Z
X-MICROSOFT-CDO-ALLDAYEVENT:FALSE
SUMMARY:Fall Ladies Night
DESCRIPTION:Fall Ladies Night\n\nGather your girlfriends and enjoy shopping\, drinks\n\nappetizers and fun!
X-ALT-DESC;FMTTYPE=text/html:Fall Ladies Night<br />\nGather your girlfriends and enjoy shopping\, drinks<br />\nappetizers and fun!<br />\n&nbsp\;
LOCATION:Historic Downtown Gainesville Participating Shops
UID:e.1216.10458
SEQUENCE:3
DTSTAMP:20260425T173108Z
URL:https://business.gainesvillecofc.com/events/details/fall-ladies-night-10458
END:VEVENT

END:VCALENDAR
