BEGIN:VCALENDAR
VERSION:2.0
PRODID:-//ChamberMaster//Event Calendar 2.0//EN
METHOD:PUBLISH
X-PUBLISHED-TTL:P3D
REFRESH-INTERVAL:P3D
CALSCALE:GREGORIAN
BEGIN:VEVENT
DTSTART:20221008T150000Z
DTEND:20221008T210000Z
X-MICROSOFT-CDO-ALLDAYEVENT:FALSE
SUMMARY:Depot Day
DESCRIPTION:Depot Day is an annual event held on the second Saturday of October. It is a Gainesville signature event and welcomes both local and out of town festival goers. Featuring a food truck challenge\, kid zone\, arts & craft vendors\, auto show and live entertainment\, there is something for all at Depot Day.
X-ALT-DESC;FMTTYPE=text/html:Depot Day is an annual event held on the second Saturday of October. It is a Gainesville signature event and welcomes both local and out of town festival goers. Featuring a food truck challenge\, kid zone\, arts &amp\; craft vendors\, auto show and live entertainment\, there is something for all at Depot Day.
LOCATION:Farmers Market
UID:e.1216.10477
SEQUENCE:3
DTSTAMP:20260424T235856Z
URL:https://business.gainesvillecofc.com/events/details/depot-day-10477
END:VEVENT

END:VCALENDAR
