BEGIN:VCALENDAR
VERSION:2.0
PRODID:-//ChamberMaster//Event Calendar 2.0//EN
METHOD:PUBLISH
X-PUBLISHED-TTL:P3D
REFRESH-INTERVAL:P3D
CALSCALE:GREGORIAN
BEGIN:VEVENT
DTSTART:20230217T174500Z
DTEND:20230217T181500Z
X-MICROSOFT-CDO-ALLDAYEVENT:FALSE
SUMMARY:Clean Start Express Ribbon Cutting
DESCRIPTION:Ribbon Cutting for \n\nClean Start Express
X-ALT-DESC;FMTTYPE=text/html:Ribbon Cutting for&nbsp\;<br />\nClean Start Express
LOCATION:901 E Hwy 82 Gainesville\, TX.
UID:e.1216.11230
SEQUENCE:3
DTSTAMP:20260424T171540Z
URL:https://business.gainesvillecofc.com/events/details/clean-start-express-ribbon-cutting-11230
END:VEVENT

END:VCALENDAR
