BEGIN:VCALENDAR
VERSION:2.0
PRODID:-//ChamberMaster//Event Calendar 2.0//EN
METHOD:PUBLISH
X-PUBLISHED-TTL:P3D
REFRESH-INTERVAL:P3D
CALSCALE:GREGORIAN
BEGIN:VEVENT
DTSTART:20210624T220000Z
DTEND:20210625T000000Z
X-MICROSOFT-CDO-ALLDAYEVENT:FALSE
SUMMARY:Chamber Mixer - RAR Productions Associates & The Patio Downtown
DESCRIPTION:Looking for an opportunity to get to know the many businesses of Gainesville on a personal level? Our Chamber Mixers are a great opportunity to connect with other chamber members and help reinforce long-lasting relationships.  Best of all\, Mixers are free and open to all of Gainesville's business professionals\, so be sure to invite guests\, coworkers\, key clients\, and fellow professionals to attend with you.
X-ALT-DESC;FMTTYPE=text/html:<span style="font-size:14px\;"><span style="font-family:arial\;"><span style="color: rgb(61\, 61\, 61)\; text-align: center\; white-space: pre-wrap\; background-color: rgb(255\, 255\, 255)\;">Looking for an opportunity to get to know the many businesses of Gainesville on a personal level?&nbsp\;Our Chamber Mixers are a great opportunity to connect with other chamber members and help reinforce long-lasting relationships. &nbsp\;Best of all\, Mixers are free and open to all of Gainesville&#39\;s business professionals\, so be sure to invite guests\, coworkers\, key clients\, and fellow professionals to attend with you.</span></span></span>
LOCATION:105 S. Commerce Street
UID:e.1216.10253
SEQUENCE:3
DTSTAMP:20260425T232621Z
URL:https://business.gainesvillecofc.com/events/details/chamber-mixer-rar-productions-associates-the-patio-downtown-10253
END:VEVENT

END:VCALENDAR
