BEGIN:VCALENDAR
VERSION:2.0
PRODID:-//ChamberMaster//Event Calendar 2.0//EN
METHOD:PUBLISH
X-PUBLISHED-TTL:P3D
REFRESH-INTERVAL:P3D
CALSCALE:GREGORIAN
BEGIN:VEVENT
DTSTART:20230323T220000Z
DTEND:20230324T000000Z
X-MICROSOFT-CDO-ALLDAYEVENT:FALSE
SUMMARY:Chamber Mixer Hosted by Triple C Bounce Rentals
DESCRIPTION:Come join us at the monthly chamber mixer. Hosted by Triple C Bounce Rentals!  They will be setting up a couple of their bounce houses at the Farmer's Market for kids. The food trucks will be open\, waters\, juices\, and snacks will be provided while beverages from Krootz and Texas Daq Shack can be purchased at their locations around the Farmer's Market and brought to the event.
X-ALT-DESC;FMTTYPE=text/html:Come join us at the monthly chamber mixer. Hosted by Triple C Bounce Rentals!&nbsp\;&nbsp\;They will be setting up a couple of their bounce houses at the Farmer&#39\;s Market for kids. The food trucks will be open\, waters\, juices\, and snacks will be provided while beverages from Krootz and Texas Daq Shack can be purchased at their locations around the Farmer&#39\;s Market and brought to the event.&nbsp\;
LOCATION:Gainesville Farmers Market 201 N Chestnut St Gainesville\, TX 76240
UID:e.1216.11228
SEQUENCE:3
DTSTAMP:20260424T155419Z
URL:https://business.gainesvillecofc.com/events/details/chamber-mixer-hosted-by-triple-c-bounce-rentals-11228
END:VEVENT

END:VCALENDAR
