BEGIN:VCALENDAR
VERSION:2.0
PRODID:-//ChamberMaster//Event Calendar 2.0//EN
METHOD:PUBLISH
X-PUBLISHED-TTL:P3D
REFRESH-INTERVAL:P3D
CALSCALE:GREGORIAN
BEGIN:VEVENT
DTSTART:20210722T223000Z
DTEND:20210723T003000Z
X-MICROSOFT-CDO-ALLDAYEVENT:FALSE
SUMMARY:Chamber Mixer - Hosted by The Lancaster Manor
DESCRIPTION:Chamber Mixer - Hosted by The Lancaster Manor\n\nLooking for an opportunity to get to know the many businesses of Gainesville on a personal level? Our Chamber Mixers are a great opportunity to connect with other chamber members and help reinforce long-lasting relationships.  Best of all\, Mixers are free and open to all of Gainesville's business professionals\, so be sure to invite guests\, coworkers\, key clients\, and fellow professionals to attend with you.
X-ALT-DESC;FMTTYPE=text/html:<span style="font-size:16px\;"><strong>Chamber Mixer - Hosted by The Lancaster Manor</strong></span><br />\n<span style="color: rgb(61\, 61\, 61)\; font-family: arial\; font-size: 14px\; text-align: center\; white-space: pre-wrap\; background-color: rgb(255\, 255\, 255)\;">Looking for an opportunity to get to know the many businesses of Gainesville on a personal level?&nbsp\;Our Chamber Mixers are a great opportunity to connect with other chamber members and help reinforce long-lasting relationships. &nbsp\;Best of all\, Mixers are free and open to all of Gainesville&#39\;s business professionals\, so be sure to invite guests\, coworkers\, key clients\, and fellow professionals to attend with you.</span>
LOCATION:
UID:e.1216.10254
SEQUENCE:3
DTSTAMP:20260425T221125Z
URL:https://business.gainesvillecofc.com/events/details/chamber-mixer-hosted-by-the-lancaster-manor-10254
END:VEVENT

END:VCALENDAR
