BEGIN:VCALENDAR
VERSION:2.0
PRODID:-//ChamberMaster//Event Calendar 2.0//EN
METHOD:PUBLISH
X-PUBLISHED-TTL:P3D
REFRESH-INTERVAL:P3D
CALSCALE:GREGORIAN
BEGIN:VEVENT
DTSTART:20230126T230000Z
DTEND:20230127T010000Z
X-MICROSOFT-CDO-ALLDAYEVENT:FALSE
SUMMARY:Chamber Mixer Hosted by Hunkey Dorie Shops on Main
DESCRIPTION:Come join us at the monthly chamber mixer. Hosted by Hunkey Dorie Shops on Main!  Appetizers and drinks will be available as you network and learn more about this business!
X-ALT-DESC;FMTTYPE=text/html:Come join us at the monthly chamber mixer. Hosted by Hunkey Dorie Shops on Main!&nbsp\;&nbsp\;Appetizers and drinks will be available as you network and learn more about this business!
LOCATION:112 W Main St Gainesville\, TX 76240
UID:e.1216.11080
SEQUENCE:3
DTSTAMP:20260424T190953Z
URL:https://business.gainesvillecofc.com/events/details/chamber-mixer-hosted-by-hunkey-dorie-shops-on-main-11080
END:VEVENT

END:VCALENDAR
