BEGIN:VCALENDAR
VERSION:2.0
PRODID:-//ChamberMaster//Event Calendar 2.0//EN
METHOD:PUBLISH
X-PUBLISHED-TTL:P3D
REFRESH-INTERVAL:P3D
CALSCALE:GREGORIAN
BEGIN:VEVENT
DTSTART:20210826T220000Z
DTEND:20210827T000000Z
X-MICROSOFT-CDO-ALLDAYEVENT:FALSE
SUMMARY:Chamber Mixer - Hosted by: First United Bank and Trust & Cooke County United Way
DESCRIPTION:Chamber Mixer - Hosted by: First United Bank and Trust & Cooke County United Way\n\nLooking for an opportunity to get to know the many businesses of Gainesville on a personal level? Our Chamber Mixers are a great opportunity to connect with other chamber members and help reinforce long-lasting relationships.  Best of all\, Mixers are free and open to all of Gainesville's business professionals\, so be sure to invite guests\, coworkers\, key clients\, and fellow professionals to attend with you.
X-ALT-DESC;FMTTYPE=text/html:Chamber Mixer - Hosted by: First United Bank and Trust &amp\; Cooke County United Way<br />\n<span style="color: rgb(61\, 61\, 61)\; font-family: arial\; font-size: 14px\; text-align: center\; white-space: pre-wrap\; background-color: rgb(255\, 255\, 255)\;">Looking for an opportunity to get to know the many businesses of Gainesville on a personal level?&nbsp\;Our Chamber Mixers are a great opportunity to connect with other chamber members and help reinforce long-lasting relationships. &nbsp\;Best of all\, Mixers are free and open to all of Gainesville&#39\;s business professionals\, so be sure to invite guests\, coworkers\, key clients\, and fellow professionals to attend with you.</span>
LOCATION:First United Bank & Trust 101 E. Broadway Gainesville
UID:e.1216.10255
SEQUENCE:3
DTSTAMP:20260425T220633Z
URL:https://business.gainesvillecofc.com/events/details/chamber-mixer-hosted-by-first-united-bank-and-trust-cooke-county-united-way-10255
END:VEVENT

END:VCALENDAR
