BEGIN:VCALENDAR
VERSION:2.0
PRODID:-//ChamberMaster//Event Calendar 2.0//EN
METHOD:PUBLISH
X-PUBLISHED-TTL:P3D
REFRESH-INTERVAL:P3D
CALSCALE:GREGORIAN
BEGIN:VEVENT
DTSTART;VALUE=DATE:20210422
DTEND;VALUE=DATE:20210423
TRANSP:TRANSPARENT
X-MICROSOFT-CDO-ALLDAYEVENT:TRUE
SUMMARY:Chamber Mixer - CASA
DESCRIPTION:Chamber MIxer - Hosted by CASA
X-ALT-DESC;FMTTYPE=text/html:Chamber MIxer - Hosted by CASA
LOCATION:315 E. California Street Gainesville
UID:e.1216.9945
SEQUENCE:3
DTSTAMP:20260426T035415Z
URL:https://business.gainesvillecofc.com/events/details/chamber-mixer-casa-9945
END:VEVENT

END:VCALENDAR
