BEGIN:VCALENDAR
VERSION:2.0
PRODID:-//ChamberMaster//Event Calendar 2.0//EN
METHOD:PUBLISH
X-PUBLISHED-TTL:P3D
REFRESH-INTERVAL:P3D
CALSCALE:GREGORIAN
BEGIN:VEVENT
DTSTART:20210709T003000Z
DTEND:20210718T023000Z
X-MICROSOFT-CDO-ALLDAYEVENT:FALSE
SUMMARY:Butterfield Stage - Red\, White and Tuna
DESCRIPTION:Butterfield Stage Presents "Red\, White and Tuna"\n\nJuly 8\,9\,10\,15\,16\, & 17 - 7:30 PM\n\nJuly 11 & 18 - 2:30 PM
X-ALT-DESC;FMTTYPE=text/html:Butterfield Stage Presents &quot\;Red\, White and Tuna&quot\;<br />\nJuly 8\,9\,10\,15\,16\, &amp\; 17 - 7:30 PM<br />\nJuly 11 &amp\; 18 - 2:30 PM&nbsp\;&nbsp\;
LOCATION:Butterfield Stage Gainesville\, TX 76240
UID:e.1216.10322
SEQUENCE:3
DTSTAMP:20260425T220459Z
URL:https://business.gainesvillecofc.com/events/details/butterfield-stage-red-white-and-tuna-10322
END:VEVENT

END:VCALENDAR
