BEGIN:VCALENDAR
VERSION:2.0
PRODID:-//ChamberMaster//Event Calendar 2.0//EN
METHOD:PUBLISH
X-PUBLISHED-TTL:P3D
REFRESH-INTERVAL:P3D
CALSCALE:GREGORIAN
BEGIN:VEVENT
DTSTART:20210810T140000Z
DTEND:20210810T140000Z
X-MICROSOFT-CDO-ALLDAYEVENT:FALSE
SUMMARY:Business of the Month - Senior Care of North Texas
DESCRIPTION:Business of the Month Presentation - Senior Care of North Texas
X-ALT-DESC;FMTTYPE=text/html:Business of the Month Presentation - Senior Care of North Texas
LOCATION:Gainesville Civic Center 311 S. Weaver St. Gainesville
UID:e.1216.10461
SEQUENCE:3
DTSTAMP:20260425T204923Z
URL:https://business.gainesvillecofc.com/events/details/business-of-the-month-senior-care-of-north-texas-10461
END:VEVENT

END:VCALENDAR
